BEGIN:VCALENDAR
VERSION:2.0
PRODID:-//โรงเรียนแก่นนครวิทยาลัย - ECPv6.15.20//NONSGML v1.0//EN
CALSCALE:GREGORIAN
METHOD:PUBLISH
X-ORIGINAL-URL:https://knw.ac.th
X-WR-CALDESC:Events for โรงเรียนแก่นนครวิทยาลัย
REFRESH-INTERVAL;VALUE=DURATION:PT1H
X-Robots-Tag:noindex
X-PUBLISHED-TTL:PT1H
BEGIN:VTIMEZONE
TZID:Asia/Bangkok
BEGIN:STANDARD
TZOFFSETFROM:+0700
TZOFFSETTO:+0700
TZNAME:+07
DTSTART:20250101T000000
END:STANDARD
END:VTIMEZONE
BEGIN:VEVENT
DTSTART;TZID=Asia/Bangkok:20260403T090000
DTEND;TZID=Asia/Bangkok:20260403T090000
DTSTAMP:20260423T043718
CREATED:20260312T024612Z
LAST-MODIFIED:20260330T092122Z
UID:10555-1775206800-1775206800@knw.ac.th
SUMMARY:ม.6 รับ ปพ.1 และ ปพ.2 (3 เมษายน 69)
DESCRIPTION:เอกสาร ปพ.1 และ ปพ.2 เป็นเอกสารสำคัญเก็บไว้กับตัวเท่านั้น\nหากต้องนำไปประกอบการศึกษาต่อ ให้ถ่ายเอกสารและรับรองสำเนาถูกต้องเท่านั้น \n\n\nนักเรียนมารับด้วยตนเองตามวันและเวลาที่กำหนดเท่านั้น \n\n\nกรณีที่นักเรียนไม่สามารถมารับด้วยตนเอง สามารถให้ผู้ปกครองที่เป็นบิดาหรือมารดาที่ระบุตรงกับ ปพ.1 มารับแทนได้ โดยต้องนำบัตรประชาชนของนักเรียนและบิดาหรือมารดามาแสดงในวันรับ \n\n\nนักเรียนต้องแต่งกายด้วยชุดนักเรียนและผมสีดำเท่านั้น ในการมารับ ปพ.1 และ ปพ.2 \n\n\nหากไม่สามารถมารับได้ตามวันและเวลาที่กำหนดให้ติดต่อขอรับในช่วงเปิดภาคเรียน \n\n\n\nมาดูว่า ปพ.1 และ ปพ.2 คืออะไรกัน? \n\nยินดีด้วยครับที่คุณ (หรือน้อง ๆ) เรียนจบแล้ว! เอกสาร ปพ.1 และ ปพ.2 คือ “กุญแจสำคัญ” ที่จะใช้เปิดประตูสู่การเรียนต่อหรือทำงานเลยครับ มาดูสรุปสาระสำคัญแบบเข้าใจง่ายกันครับ \n\n1. ปพ.1 : ระเบียนแสดงผลการเรียน (Transcript)\nเรียกง่าย ๆ ว่า “ใบเกรด” หรือ “ใบแสดงรายวิชา” ครับ \n\n\nคืออะไร: เป็นเอกสารที่รวบรวมรายวิชาทั้งหมดที่เรียนมาตลอดหลักสูตร (เช่น ม.1-ม.3 หรือ ม.4-ม.6) พร้อมคะแนน เกรดเฉลี่ย (GPA) และผลการประเมินกิจกรรมต่าง ๆ \n\n\nความสำคัญ: * ใช้เป็นหลักฐานหลักในการ “สมัครเรียนต่อ” (ทุกระดับชั้น) \n\n\nใช้สำหรับ “สมัครงาน” เพื่อยืนยันวิชาที่เคยเรียนและผลการศึกษา \n\n\nใช้ในการ “เทียบโอนผลการเรียน” กรณีที่ย้ายโรงเรียนหรือไปเรียนต่างประเทศ \n\n\n\n\n2. ปพ.2 : ประกาศนียบัตร (Diploma)\nเรียกง่าย ๆ ว่า “ใบประกาศฯ” หรือ “วุฒิบัตร” ครับ \n\n\nคืออะไร: เป็นใบที่ออกให้เพื่อรับรองว่าคุณได้ “สำเร็จการศึกษา” ตามหลักสูตรนั้น ๆ อย่างเป็นทางการ (เช่น จบ ม.3 หรือ จบ ม.6) \n\n\nความสำคัญ: \n\n\nเป็นเครื่องยืนยัน “ระดับการศึกษา” สูงสุดที่คุณทำได้ \n\n\nมักใช้คู่กับ ปพ.1 เพื่อพิสูจน์ว่าไม่ได้แค่เรียนจบวิชาต่าง ๆ แต่ได้รับวุฒิการศึกษาตามกฎหมายแล้ว \n\n\n\n\n\n### ตารางสรุปความแตกต่าง\n\n\n\nหัวข้อเทียบ\nปพ.1 (ระเบียนผลการเรียน)\nปพ.2 (ประกาศนียบัตร)\n\n\n\n\nสิ่งที่ระบุ\nเกรดทุกวิชา\, หน่วยกิต\, GPAX\nข้อความรับรองว่าเรียนจบหลักสูตร\n\n\nจำนวนที่ได้รับ\nขอสำเนาเพิ่มได้บ่อยเท่าที่ต้องการ (ที่ฝ่ายทะเบียน)\nมีฉบับเดียวในชีวิต (ถ้าหายต้องขอใบแทน)\n\n\nการใช้งานหลัก\nใช้ยื่นคะแนนเพื่อคัดเลือกเข้าเรียนต่อ\nใช้ยืนยันวุฒิว่า “เรียนจบชัวร์”\n\n\n\n\n⚠️ ข้อควรระวัง (จากประกาศในภาพ)\n\n\nห้ามให้ตัวจริงกับใคร: ตามที่ประกาศแจ้งไว้ ให้ “เก็บตัวจริงไว้กับตัวเท่านั้น” เวลาไปสมัครเรียน ให้ใช้ “สำเนา” (การถ่ายเอกสาร) แล้วเซ็นชื่อรับรองสำเนาถูกต้องแทนครับ \n\n\nรักษาเท่าชีวิต: โดยเฉพาะ ปพ.2 เพราะถ้าหาย ขั้นตอนการขอใบแทนจะยุ่งยากกว่า ปพ.1 มากครับ
URL:https://knw.ac.th/event/%e0%b8%a1-6-%e0%b8%a3%e0%b8%b1%e0%b8%9a-%e0%b8%9b%e0%b8%9e-1-%e0%b9%81%e0%b8%a5%e0%b8%b0-%e0%b8%9b%e0%b8%9e-2-3-%e0%b9%80%e0%b8%a1%e0%b8%a9%e0%b8%b2%e0%b8%a2%e0%b8%99-69/
END:VEVENT
END:VCALENDAR